BEGIN:VCALENDAR
VERSION:2.0
PRODID:-//El Portal de la Verneda - ECPv6.6.0.2//NONSGML v1.0//EN
CALSCALE:GREGORIAN
METHOD:PUBLISH
X-ORIGINAL-URL:https://portalverneda.es
X-WR-CALDESC:Eventos para El Portal de la Verneda
REFRESH-INTERVAL;VALUE=DURATION:PT1H
X-Robots-Tag:noindex
X-PUBLISHED-TTL:PT1H
BEGIN:VTIMEZONE
TZID:Europe/Madrid
BEGIN:DAYLIGHT
TZOFFSETFROM:+0100
TZOFFSETTO:+0200
TZNAME:CEST
DTSTART:20240331T010000
END:DAYLIGHT
BEGIN:STANDARD
TZOFFSETFROM:+0200
TZOFFSETTO:+0100
TZNAME:CET
DTSTART:20241027T010000
END:STANDARD
END:VTIMEZONE
BEGIN:VEVENT
DTSTART;TZID=Europe/Madrid:20241020T120000
DTEND;TZID=Europe/Madrid:20241020T170000
DTSTAMP:20260422T130613
CREATED:20241013T111137Z
LAST-MODIFIED:20241013T111137Z
UID:9820-1729425600-1729443600@portalverneda.es
SUMMARY:GT de HEAT
DESCRIPTION:
URL:https://portalverneda.es/calendario/gt-de-heat/
LOCATION:El Portal de la Verneda\, Carrer sant Miquel\, 10\, Sant Adrià del Besòs\, Barcelona\, 08930\, Spain
CATEGORIES:La Tienda Scum
ATTACH;FMTTYPE=image/webp:https://portalverneda.es/wp-content/uploads/2024/10/pic6940449.webp
END:VEVENT
END:VCALENDAR