BEGIN:VCALENDAR
VERSION:2.0
PRODID:-//El Portal de la Verneda - ECPv6.6.0.2//NONSGML v1.0//EN
CALSCALE:GREGORIAN
METHOD:PUBLISH
X-ORIGINAL-URL:https://portalverneda.es
X-WR-CALDESC:Eventos para El Portal de la Verneda
REFRESH-INTERVAL;VALUE=DURATION:PT1H
X-Robots-Tag:noindex
X-PUBLISHED-TTL:PT1H
BEGIN:VTIMEZONE
TZID:Europe/Madrid
BEGIN:DAYLIGHT
TZOFFSETFROM:+0100
TZOFFSETTO:+0200
TZNAME:CEST
DTSTART:20260329T010000
END:DAYLIGHT
BEGIN:STANDARD
TZOFFSETFROM:+0200
TZOFFSETTO:+0100
TZNAME:CET
DTSTART:20261025T010000
END:STANDARD
END:VTIMEZONE
BEGIN:VEVENT
DTSTART;TZID=Europe/Madrid:20260222T093000
DTEND;TZID=Europe/Madrid:20260222T133000
DTSTAMP:20260421T125455
CREATED:20260204T154234Z
LAST-MODIFIED:20260204T154234Z
UID:11148-1771752600-1771767000@portalverneda.es
SUMMARY:Sphere wars demos
DESCRIPTION:
URL:https://portalverneda.es/calendario/sphere-wars-demos/
LOCATION:El Portal de la Verneda\, Carrer sant Miquel\, 10\, Sant Adrià del Besòs\, Barcelona\, 08930\, Spain
ATTACH;FMTTYPE=image/jpeg:https://portalverneda.es/wp-content/uploads/2026/02/WhatsApp-Image-2026-02-04-at-15.48.54.jpeg
ORGANIZER;CN="La Orden":MAILTO:lordofones@gmail.com
END:VEVENT
END:VCALENDAR