BEGIN:VCALENDAR
VERSION:2.0
PRODID:-//El Portal de la Verneda - ECPv6.6.0.2//NONSGML v1.0//EN
CALSCALE:GREGORIAN
METHOD:PUBLISH
X-WR-CALNAME:El Portal de la Verneda
X-ORIGINAL-URL:https://portalverneda.es
X-WR-CALDESC:Eventos para El Portal de la Verneda
REFRESH-INTERVAL;VALUE=DURATION:PT1H
X-Robots-Tag:noindex
X-PUBLISHED-TTL:PT1H
BEGIN:VTIMEZONE
TZID:Europe/Madrid
BEGIN:DAYLIGHT
TZOFFSETFROM:+0100
TZOFFSETTO:+0200
TZNAME:CEST
DTSTART:20250330T010000
END:DAYLIGHT
BEGIN:STANDARD
TZOFFSETFROM:+0200
TZOFFSETTO:+0100
TZNAME:CET
DTSTART:20251026T010000
END:STANDARD
BEGIN:DAYLIGHT
TZOFFSETFROM:+0100
TZOFFSETTO:+0200
TZNAME:CEST
DTSTART:20260329T010000
END:DAYLIGHT
BEGIN:STANDARD
TZOFFSETFROM:+0200
TZOFFSETTO:+0100
TZNAME:CET
DTSTART:20261025T010000
END:STANDARD
END:VTIMEZONE
BEGIN:VEVENT
DTSTART;TZID=Europe/Madrid:20251129T100000
DTEND;TZID=Europe/Madrid:20251129T140000
DTSTAMP:20260421T232124
CREATED:20251124T230443Z
LAST-MODIFIED:20251124T230443Z
UID:10748-1764410400-1764424800@portalverneda.es
SUMMARY:Curso de pintura - busto Volhk-kor de Hugo Gómez
DESCRIPTION:Busto de Volhk-kor incluído \n6 plazas
URL:https://portalverneda.es/calendario/curso-de-pintura-busto-volhk-kor-de-hugo-gomez/
LOCATION:El Portal de la Verneda\, Carrer sant Miquel\, 10\, Sant Adrià del Besòs\, Barcelona\, 08930\, Spain
ATTACH;FMTTYPE=image/jpeg:https://portalverneda.es/wp-content/uploads/2025/11/WhatsApp-Image-2025-11-24-at-23.21.17-1.jpeg
END:VEVENT
BEGIN:VEVENT
DTSTART;TZID=Europe/Madrid:20251213T100000
DTEND;TZID=Europe/Madrid:20251213T190000
DTSTAMP:20260421T232124
CREATED:20251124T230236Z
LAST-MODIFIED:20251124T230521Z
UID:10745-1765620000-1765652400@portalverneda.es
SUMMARY:Curso de pintura - busto Longsnouts
DESCRIPTION:Busto Longsnouts incluído \n6 plazas
URL:https://portalverneda.es/calendario/curso-de-pintura-busto-longsnouts/
LOCATION:El Portal de la Verneda\, Carrer sant Miquel\, 10\, Sant Adrià del Besòs\, Barcelona\, 08930\, Spain
ATTACH;FMTTYPE=image/jpeg:https://portalverneda.es/wp-content/uploads/2025/11/WhatsApp-Image-2025-11-24-at-23.21.17.jpeg
END:VEVENT
BEGIN:VEVENT
DTSTART;TZID=Europe/Madrid:20251214T100000
DTEND;TZID=Europe/Madrid:20251214T140000
DTSTAMP:20260421T232124
CREATED:20251202T085354Z
LAST-MODIFIED:20251202T085354Z
UID:10778-1765706400-1765720800@portalverneda.es
SUMMARY:5a Jornada de Liga Beyblade +15
DESCRIPTION:
URL:https://portalverneda.es/calendario/5a-jornada-de-liga-beyblade-15/
LOCATION:El Portal de la Verneda\, Carrer sant Miquel\, 10\, Sant Adrià del Besòs\, Barcelona\, 08930\, Spain
ATTACH;FMTTYPE=image/jpeg:https://portalverneda.es/wp-content/uploads/2025/11/my-custom-beyblade-x-logos-v0-otbybva5kuye1-scaled.jpg
END:VEVENT
BEGIN:VEVENT
DTSTART;TZID=Europe/Madrid:20251220T080000
DTEND;TZID=Europe/Madrid:20251220T193000
DTSTAMP:20260421T232124
CREATED:20251124T153356Z
LAST-MODIFIED:20251128T104111Z
UID:10743-1766217600-1766259000@portalverneda.es
SUMMARY:Torneo 40k Lord of Ones
DESCRIPTION:Inscripciones ya abiertas\, enviad mail a lordofones@gmail.com con: \n– Email BCP\n– Numero de movil\n– Nombre y Apellidos \nTorneo Navideño \nSábado 20/12 \n3 rondas \nPrecio: 15 euros (no incluye comida) \nHorario: \nRecepción: 08:00 – 08:15\nRonda 1: 08:15 – 11:30\nRonda 2: 11:30 – 14:45\nComer: 14:45 – 16:00\nRonda 3: 16:00 – 19:15\nPremios/sorteos: 19:15 \n  \nLUGAR (Portal de la Verneda):\nhttps://maps.app.goo.gl/C1sXQ4uS1QrpNcRg7
URL:https://portalverneda.es/calendario/torneo-40k-lord-of-ones/
LOCATION:El Portal de la Verneda\, Carrer sant Miquel\, 10\, Sant Adrià del Besòs\, Barcelona\, 08930\, Spain
CATEGORIES:Público
ATTACH;FMTTYPE=image/jpeg:https://portalverneda.es/wp-content/uploads/2025/04/images.jpg
ORGANIZER;CN="La Orden":MAILTO:lordofones@gmail.com
END:VEVENT
BEGIN:VEVENT
DTSTART;TZID=Europe/Madrid:20251221T100000
DTEND;TZID=Europe/Madrid:20251221T180000
DTSTAMP:20260421T232124
CREATED:20251202T085603Z
LAST-MODIFIED:20251202T085603Z
UID:10782-1766311200-1766340000@portalverneda.es
SUMMARY:6a Jornada de Liga Beyblade +15
DESCRIPTION:
URL:https://portalverneda.es/calendario/6a-jornada-de-liga-beyblade-15/
LOCATION:El Portal de la Verneda\, Carrer sant Miquel\, 10\, Sant Adrià del Besòs\, Barcelona\, 08930\, Spain
ATTACH;FMTTYPE=image/jpeg:https://portalverneda.es/wp-content/uploads/2025/11/my-custom-beyblade-x-logos-v0-otbybva5kuye1-scaled.jpg
END:VEVENT
BEGIN:VEVENT
DTSTART;TZID=Europe/Madrid:20251227T153000
DTEND;TZID=Europe/Madrid:20251227T210000
DTSTAMP:20260421T232124
CREATED:20251205T200912Z
LAST-MODIFIED:20251210T215904Z
UID:10811-1766849400-1766869200@portalverneda.es
SUMMARY:Comander Navideño
DESCRIPTION:3 rondas de 1:45h \nEntrada 3€ que incluye: \n\nRefresco o Cacaolat\nTurrones y pastas navideñas\nDeckbox temática al ganador
URL:https://portalverneda.es/calendario/evento-navideno-magic/
LOCATION:El Portal de la Verneda\, Carrer sant Miquel\, 10\, Sant Adrià del Besòs\, Barcelona\, 08930\, Spain
CATEGORIES:Público
ATTACH;FMTTYPE=image/jpeg:https://portalverneda.es/wp-content/uploads/2025/12/453f673e-a43f-4e23-8f5b-924a4c571d9e.jpg
END:VEVENT
BEGIN:VEVENT
DTSTART;TZID=Europe/Madrid:20260104T100000
DTEND;TZID=Europe/Madrid:20260104T140000
DTSTAMP:20260421T232124
CREATED:20260102T105505Z
LAST-MODIFIED:20260102T105505Z
UID:11005-1767520800-1767535200@portalverneda.es
SUMMARY:7a Jornada de Liga Beyblade +15
DESCRIPTION:
URL:https://portalverneda.es/calendario/7a-jornada-de-liga-beyblade-15/
LOCATION:El Portal de la Verneda\, Carrer sant Miquel\, 10\, Sant Adrià del Besòs\, Barcelona\, 08930\, Spain
ATTACH;FMTTYPE=image/jpeg:https://portalverneda.es/wp-content/uploads/2026/01/004004dd-88f4-441e-b627-d26d82621d93.jpg
END:VEVENT
BEGIN:VEVENT
DTSTART;TZID=Europe/Madrid:20260111T090000
DTEND;TZID=Europe/Madrid:20260111T190000
DTSTAMP:20260421T232124
CREATED:20260102T110056Z
LAST-MODIFIED:20260102T110056Z
UID:11013-1768122000-1768158000@portalverneda.es
SUMMARY:1r Torneo Interno Age of Sigmar
DESCRIPTION:Se trata de un evento con 16 plazas a 3 rondas de 2000 puntos.
URL:https://portalverneda.es/calendario/1r-torneo-interno-age-of-sigmar/
LOCATION:El Portal de la Verneda\, Carrer sant Miquel\, 10\, Sant Adrià del Besòs\, Barcelona\, 08930\, Spain
ATTACH;FMTTYPE=image/webp:https://portalverneda.es/wp-content/uploads/2026/01/604149117_17905679628307974_5914045389892041657_n.webp
END:VEVENT
BEGIN:VEVENT
DTSTART;TZID=Europe/Madrid:20260118T100000
DTEND;TZID=Europe/Madrid:20260118T140000
DTSTAMP:20260421T232124
CREATED:20260102T105554Z
LAST-MODIFIED:20260102T105615Z
UID:11008-1768730400-1768744800@portalverneda.es
SUMMARY:8a Jornada de Liga Beyblade +15
DESCRIPTION:
URL:https://portalverneda.es/calendario/8a-jornada-de-liga-beyblade-15/
LOCATION:El Portal de la Verneda\, Carrer sant Miquel\, 10\, Sant Adrià del Besòs\, Barcelona\, 08930\, Spain
ATTACH;FMTTYPE=image/jpeg:https://portalverneda.es/wp-content/uploads/2025/11/my-custom-beyblade-x-logos-v0-otbybva5kuye1-scaled.jpg
END:VEVENT
BEGIN:VEVENT
DTSTART;TZID=Europe/Madrid:20260124T080000
DTEND;TZID=Europe/Madrid:20260124T210000
DTSTAMP:20260421T232124
CREATED:20260102T160438Z
LAST-MODIFIED:20260103T183905Z
UID:11016-1769241600-1769288400@portalverneda.es
SUMMARY:Entreno 40k
DESCRIPTION:3 rondas
URL:https://portalverneda.es/calendario/entreno-40k-2/
LOCATION:El Portal de la Verneda\, Carrer sant Miquel\, 10\, Sant Adrià del Besòs\, Barcelona\, 08930\, Spain
ATTACH;FMTTYPE=image/jpeg:https://portalverneda.es/wp-content/uploads/2026/01/WhatsApp-Image-2026-01-03-at-19.34.32.jpeg
ORGANIZER;CN="La Orden":MAILTO:lordofones@gmail.com
END:VEVENT
BEGIN:VEVENT
DTSTART;TZID=Europe/Madrid:20260201T100000
DTEND;TZID=Europe/Madrid:20260201T140000
DTSTAMP:20260421T232124
CREATED:20260102T105736Z
LAST-MODIFIED:20260102T105736Z
UID:11011-1769940000-1769954400@portalverneda.es
SUMMARY:9a Jornada de Liga Beyblade +15
DESCRIPTION:
URL:https://portalverneda.es/calendario/9a-jornada-de-liga-beyblade-15/
LOCATION:El Portal de la Verneda\, Carrer sant Miquel\, 10\, Sant Adrià del Besòs\, Barcelona\, 08930\, Spain
ATTACH;FMTTYPE=image/jpeg:https://portalverneda.es/wp-content/uploads/2025/11/my-custom-beyblade-x-logos-v0-otbybva5kuye1-scaled.jpg
END:VEVENT
BEGIN:VEVENT
DTSTART;TZID=Europe/Madrid:20260215T100000
DTEND;TZID=Europe/Madrid:20260215T140000
DTSTAMP:20260421T232124
CREATED:20260203T164913Z
LAST-MODIFIED:20260203T164913Z
UID:11142-1771149600-1771164000@portalverneda.es
SUMMARY:10a Jornada de Liga Beyblade +15
DESCRIPTION:
URL:https://portalverneda.es/calendario/10a-jornada-de-liga-beyblade-15/
LOCATION:El Portal de la Verneda\, Carrer sant Miquel\, 10\, Sant Adrià del Besòs\, Barcelona\, 08930\, Spain
ATTACH;FMTTYPE=image/jpeg:https://portalverneda.es/wp-content/uploads/2025/11/my-custom-beyblade-x-logos-v0-otbybva5kuye1-scaled.jpg
END:VEVENT
BEGIN:VEVENT
DTSTART;TZID=Europe/Madrid:20260222T093000
DTEND;TZID=Europe/Madrid:20260222T133000
DTSTAMP:20260421T232124
CREATED:20260204T154234Z
LAST-MODIFIED:20260204T154234Z
UID:11148-1771752600-1771767000@portalverneda.es
SUMMARY:Sphere wars demos
DESCRIPTION:
URL:https://portalverneda.es/calendario/sphere-wars-demos/
LOCATION:El Portal de la Verneda\, Carrer sant Miquel\, 10\, Sant Adrià del Besòs\, Barcelona\, 08930\, Spain
ATTACH;FMTTYPE=image/jpeg:https://portalverneda.es/wp-content/uploads/2026/02/WhatsApp-Image-2026-02-04-at-15.48.54.jpeg
ORGANIZER;CN="La Orden":MAILTO:lordofones@gmail.com
END:VEVENT
BEGIN:VEVENT
DTSTART;TZID=Europe/Madrid:20260301T100000
DTEND;TZID=Europe/Madrid:20260301T140000
DTSTAMP:20260421T232124
CREATED:20260203T165008Z
LAST-MODIFIED:20260203T165008Z
UID:11144-1772359200-1772373600@portalverneda.es
SUMMARY:11a Jornada de Liga Beyblade +15
DESCRIPTION:
URL:https://portalverneda.es/calendario/11a-jornada-de-liga-beyblade-15/
LOCATION:El Portal de la Verneda\, Carrer sant Miquel\, 10\, Sant Adrià del Besòs\, Barcelona\, 08930\, Spain
ATTACH;FMTTYPE=image/jpeg:https://portalverneda.es/wp-content/uploads/2025/11/my-custom-beyblade-x-logos-v0-otbybva5kuye1-scaled.jpg
END:VEVENT
BEGIN:VEVENT
DTSTART;TZID=Europe/Madrid:20260315T100000
DTEND;TZID=Europe/Madrid:20260315T180000
DTSTAMP:20260421T232124
CREATED:20260311T111805Z
LAST-MODIFIED:20260311T111805Z
UID:11312-1773568800-1773597600@portalverneda.es
SUMMARY:Torneo Beyblade
DESCRIPTION:
URL:https://portalverneda.es/calendario/torneo-beyblade/
LOCATION:El Portal de la Verneda\, Carrer sant Miquel\, 10\, Sant Adrià del Besòs\, Barcelona\, 08930\, Spain
ATTACH;FMTTYPE=image/jpeg:https://portalverneda.es/wp-content/uploads/2025/11/my-custom-beyblade-x-logos-v0-otbybva5kuye1-scaled.jpg
END:VEVENT
BEGIN:VEVENT
DTSTART;TZID=Europe/Madrid:20260322T100000
DTEND;TZID=Europe/Madrid:20260322T140000
DTSTAMP:20260421T232124
CREATED:20260303T124110Z
LAST-MODIFIED:20260303T124110Z
UID:11236-1774173600-1774188000@portalverneda.es
SUMMARY:12a Jornada de Liga Beyblade +15
DESCRIPTION:
URL:https://portalverneda.es/calendario/12a-jornada-de-liga-beyblade-15/
LOCATION:El Portal de la Verneda\, Carrer sant Miquel\, 10\, Sant Adrià del Besòs\, Barcelona\, 08930\, Spain
ATTACH;FMTTYPE=image/jpeg:https://portalverneda.es/wp-content/uploads/2025/11/my-custom-beyblade-x-logos-v0-otbybva5kuye1-scaled.jpg
END:VEVENT
BEGIN:VEVENT
DTSTART;TZID=Europe/Madrid:20260411T090000
DTEND;TZID=Europe/Madrid:20260411T180000
DTSTAMP:20260421T232124
CREATED:20260303T124514Z
LAST-MODIFIED:20260303T124514Z
UID:11239-1775898000-1775930400@portalverneda.es
SUMMARY:Volumen y luz: busto de fantasia
DESCRIPTION:
URL:https://portalverneda.es/calendario/volumen-y-luz-busto-de-fantasia/
LOCATION:El Portal de la Verneda\, Carrer sant Miquel\, 10\, Sant Adrià del Besòs\, Barcelona\, 08930\, Spain
ATTACH;FMTTYPE=image/jpeg:https://portalverneda.es/wp-content/uploads/2026/03/WhatsApp-Image-2026-02-24-at-16.41.11.jpeg
END:VEVENT
BEGIN:VEVENT
DTSTART;TZID=Europe/Madrid:20260411T090000
DTEND;TZID=Europe/Madrid:20260411T220000
DTSTAMP:20260421T232124
CREATED:20260309T112607Z
LAST-MODIFIED:20260309T112607Z
UID:11255-1775898000-1775944800@portalverneda.es
SUMMARY:Riftbound 1st Vilemaw cup
DESCRIPTION:
URL:https://portalverneda.es/calendario/riftbound-1st-vilemaw-cup/
LOCATION:El Portal de la Verneda\, Carrer sant Miquel\, 10\, Sant Adrià del Besòs\, Barcelona\, 08930\, Spain
CATEGORIES:Público
ATTACH;FMTTYPE=image/jpeg:https://portalverneda.es/wp-content/uploads/2026/03/WhatsApp-Image-2026-03-09-at-12.07.08.jpeg
END:VEVENT
BEGIN:VEVENT
DTSTART;TZID=Europe/Madrid:20260412T090000
DTEND;TZID=Europe/Madrid:20260412T190000
DTSTAMP:20260421T232124
CREATED:20260303T132242Z
LAST-MODIFIED:20260303T132242Z
UID:11242-1775984400-1776020400@portalverneda.es
SUMMARY:II Torneo Age of Sigmar
DESCRIPTION:
URL:https://portalverneda.es/calendario/ii-torneo-age-of-sigmar/
LOCATION:El Portal de la Verneda\, Carrer sant Miquel\, 10\, Sant Adrià del Besòs\, Barcelona\, 08930\, Spain
ATTACH;FMTTYPE=image/jpeg:https://portalverneda.es/wp-content/uploads/2026/03/WhatsApp-Image-2026-02-24-at-16.40.23.jpeg
END:VEVENT
END:VCALENDAR