BEGIN:VCALENDAR
VERSION:2.0
PRODID:-//El Portal de la Verneda - ECPv6.6.0.2//NONSGML v1.0//EN
CALSCALE:GREGORIAN
METHOD:PUBLISH
X-ORIGINAL-URL:https://portalverneda.es
X-WR-CALDESC:Eventos para El Portal de la Verneda
REFRESH-INTERVAL;VALUE=DURATION:PT1H
X-Robots-Tag:noindex
X-PUBLISHED-TTL:PT1H
BEGIN:VTIMEZONE
TZID:Europe/Madrid
BEGIN:DAYLIGHT
TZOFFSETFROM:+0100
TZOFFSETTO:+0200
TZNAME:CEST
DTSTART:20240331T010000
END:DAYLIGHT
BEGIN:STANDARD
TZOFFSETFROM:+0200
TZOFFSETTO:+0100
TZNAME:CET
DTSTART:20241027T010000
END:STANDARD
END:VTIMEZONE
BEGIN:VEVENT
DTSTART;TZID=Europe/Madrid:20240628T200000
DTEND;TZID=Europe/Madrid:20240628T220000
DTSTAMP:20260422T235209
CREATED:20240620T092104Z
LAST-MODIFIED:20240620T092126Z
UID:9680-1719604800-1719612000@portalverneda.es
SUMMARY:Cine -The Boys
DESCRIPTION:Visionado del nuevo episodio de la serie de The Boys
URL:https://portalverneda.es/calendario/cine-the-boys-2/
LOCATION:El Portal de la Verneda\, Carrer sant Miquel\, 10\, Sant Adrià del Besòs\, Barcelona\, 08930\, Spain
CATEGORIES:Público
ATTACH;FMTTYPE=image/jpeg:https://portalverneda.es/wp-content/uploads/2024/06/16482307532196.jpg
END:VEVENT
BEGIN:VEVENT
DTSTART;TZID=Europe/Madrid:20240629T100000
DTEND;TZID=Europe/Madrid:20240629T190000
DTSTAMP:20260422T235209
CREATED:20240604T120643Z
LAST-MODIFIED:20240613T100557Z
UID:9523-1719655200-1719687600@portalverneda.es
SUMMARY:SW Unlimited Torneo
DESCRIPTION:EL torneo de SW Unlimited\, que ganitas
URL:https://portalverneda.es/calendario/sw-unlimited-torneo/
LOCATION:El Portal de la Verneda\, Carrer sant Miquel\, 10\, Sant Adrià del Besòs\, Barcelona\, 08930\, Spain
CATEGORIES:La Tienda Scum
ATTACH;FMTTYPE=image/jpeg:https://portalverneda.es/wp-content/uploads/2024/06/Star_Wars_Unlimited_Key_Art_Article_Header_10a6d12354.jpg
END:VEVENT
BEGIN:VEVENT
DTSTART;TZID=Europe/Madrid:20240630T170000
DTEND;TZID=Europe/Madrid:20240630T210000
DTSTAMP:20260422T235209
CREATED:20240626T101048Z
LAST-MODIFIED:20240626T204801Z
UID:9705-1719766800-1719781200@portalverneda.es
SUMMARY:Blood on the clock tower
DESCRIPTION:
URL:https://portalverneda.es/calendario/blood-on-the-clock-tower/
LOCATION:El Portal de la Verneda\, Carrer sant Miquel\, 10\, Sant Adrià del Besòs\, Barcelona\, 08930\, Spain
CATEGORIES:Público
ATTACH;FMTTYPE=image/jpeg:https://portalverneda.es/wp-content/uploads/2024/06/tumblr_5e8070dd39e9cc0bb0e31c7b8187c632_b191caeb_826.jpg
END:VEVENT
BEGIN:VEVENT
DTSTART;TZID=Europe/Madrid:20240701T220000
DTEND;TZID=Europe/Madrid:20240701T233000
DTSTAMP:20260422T235209
CREATED:20240620T083345Z
LAST-MODIFIED:20240620T083345Z
UID:9673-1719871200-1719876600@portalverneda.es
SUMMARY:Cine - La casa del dragón
DESCRIPTION:Visionado del episodio 3 de la Casa del Dragón
URL:https://portalverneda.es/calendario/cine-la-casa-del-dragon-2/
LOCATION:El Portal de la Verneda\, Carrer sant Miquel\, 10\, Sant Adrià del Besòs\, Barcelona\, 08930\, Spain
CATEGORIES:Público
ATTACH;FMTTYPE=image/jpeg:https://portalverneda.es/wp-content/uploads/2024/06/la-casa-del-dragon.1718298335.3155.jpg
END:VEVENT
BEGIN:VEVENT
DTSTART;TZID=Europe/Madrid:20240702T190000
DTEND;TZID=Europe/Madrid:20240702T210000
DTSTAMP:20260422T235209
CREATED:20240619T134046Z
LAST-MODIFIED:20240626T110303Z
UID:9669-1719946800-1719954000@portalverneda.es
SUMMARY:Rol - grupo waterdeep
DESCRIPTION:
URL:https://portalverneda.es/calendario/rol-grupo-waterdeep-3/
LOCATION:Sala de Rol\, Carrer de la Mare de Déu de Montserrat\, 44\, Sant Adrià del Besòs\, Barcelona\, 08930\, España
CATEGORIES:Privado
ATTACH;FMTTYPE=image/png:https://portalverneda.es/wp-content/uploads/2024/06/Waterdeep.png
END:VEVENT
BEGIN:VEVENT
DTSTART;TZID=Europe/Madrid:20240706T210000
DTEND;TZID=Europe/Madrid:20240707T040000
DTSTAMP:20260422T235209
CREATED:20240604T122434Z
LAST-MODIFIED:20240611T112829Z
UID:9526-1720299600-1720324800@portalverneda.es
SUMMARY:I Torneo ASOIAF
DESCRIPTION:Torneo de ELO Negativo del juego de miniaturas de canción de hielo y fuego. \nCon cada entrada se incluye una pizza y un refresco. \nComo premios habrá una pareja de dados para el top 3.
URL:https://portalverneda.es/calendario/i-torneo-aosiaf/
LOCATION:El Portal de la Verneda\, Carrer sant Miquel\, 10\, Sant Adrià del Besòs\, Barcelona\, 08930\, Spain
CATEGORIES:Público
ATTACH;FMTTYPE=image/jpeg:https://portalverneda.es/wp-content/uploads/2024/06/images-1.jpg
END:VEVENT
BEGIN:VEVENT
DTSTART;TZID=Europe/Madrid:20240721T090000
DTEND;TZID=Europe/Madrid:20240721T170000
DTSTAMP:20260422T235209
CREATED:20240702T083711Z
LAST-MODIFIED:20240702T083711Z
UID:9723-1721552400-1721581200@portalverneda.es
SUMMARY:Lorcana Championship
DESCRIPTION:Torneo Championship de Lorcana
URL:https://portalverneda.es/calendario/lorcana-championship/
LOCATION:El Portal de la Verneda\, Carrer sant Miquel\, 10\, Sant Adrià del Besòs\, Barcelona\, 08930\, Spain
CATEGORIES:La Tienda Scum
END:VEVENT
BEGIN:VEVENT
DTSTART;TZID=Europe/Madrid:20240722T200000
DTEND;TZID=Europe/Madrid:20240722T210000
DTSTAMP:20260422T235209
CREATED:20240724T093314Z
LAST-MODIFIED:20240724T093336Z
UID:9729-1721678400-1721682000@portalverneda.es
SUMMARY:Cine - La casa del Dragón
DESCRIPTION:Este lunes veremos el EP6
URL:https://portalverneda.es/calendario/cine-la-casa-del-dragon-4/
LOCATION:El Portal de la Verneda\, Carrer sant Miquel\, 10\, Sant Adrià del Besòs\, Barcelona\, 08930\, Spain
CATEGORIES:Público
ATTACH;FMTTYPE=image/jpeg:https://portalverneda.es/wp-content/uploads/2024/06/la-casa-del-dragon.1718298335.3155.jpg
END:VEVENT
BEGIN:VEVENT
DTSTART;TZID=Europe/Madrid:20240729T200000
DTEND;TZID=Europe/Madrid:20240729T230000
DTSTAMP:20260422T235209
CREATED:20240724T093459Z
LAST-MODIFIED:20240724T093459Z
UID:9732-1722283200-1722294000@portalverneda.es
SUMMARY:Cine - La casa del Dragón
DESCRIPTION:Este lunes veremos el EP7
URL:https://portalverneda.es/calendario/cine-la-casa-del-dragon-5/
LOCATION:El Portal de la Verneda\, Carrer sant Miquel\, 10\, Sant Adrià del Besòs\, Barcelona\, 08930\, Spain
CATEGORIES:Público
ATTACH;FMTTYPE=image/jpeg:https://portalverneda.es/wp-content/uploads/2024/06/la-casa-del-dragon.1718298335.3155.jpg
END:VEVENT
BEGIN:VEVENT
DTSTART;TZID=Europe/Madrid:20240824T103000
DTEND;TZID=Europe/Madrid:20240824T200000
DTSTAMP:20260422T235209
CREATED:20240823T104311Z
LAST-MODIFIED:20240823T104311Z
UID:9744-1724495400-1724529600@portalverneda.es
SUMMARY:ASOIAF: Quedada post-parche
DESCRIPTION:Quedada de todo el dia para jugar a ASOIAF y probar el nuevo parche. \n¡Ven a jugar y explora el nuevo meta de la 5ª temporada!
URL:https://portalverneda.es/calendario/asoiaf-quedada-post-parche/
LOCATION:El Portal de la Verneda\, Carrer sant Miquel\, 10\, Sant Adrià del Besòs\, Barcelona\, 08930\, Spain
CATEGORIES:Público
ATTACH;FMTTYPE=image/jpeg:https://portalverneda.es/wp-content/uploads/2024/06/images-1.jpg
END:VEVENT
BEGIN:VEVENT
DTSTART;TZID=Europe/Madrid:20240829T210000
DTEND;TZID=Europe/Madrid:20240829T220000
DTSTAMP:20260422T235209
CREATED:20240828T200128Z
LAST-MODIFIED:20240902T084851Z
UID:9769-1724965200-1724968800@portalverneda.es
SUMMARY:CINE: Los Anillos de Poder
DESCRIPTION:Este jueves quedamos para ver los EP1 y 2 de el Señor de los Anillos: Los Anillos de Poder.
URL:https://portalverneda.es/calendario/cine-los-anillos-de-poder/
LOCATION:El Portal de la Verneda\, Carrer sant Miquel\, 10\, Sant Adrià del Besòs\, Barcelona\, 08930\, Spain
CATEGORIES:Público
ATTACH;FMTTYPE=image/jpeg:https://portalverneda.es/wp-content/uploads/2024/08/d7dbf184ff601ee1c1f2789c0150d306b22d8e686592b39ce23f06340be2e793.jpg
END:VEVENT
BEGIN:VEVENT
DTSTART;TZID=Europe/Madrid:20240904T180000
DTEND;TZID=Europe/Madrid:20240904T210000
DTSTAMP:20260422T235209
CREATED:20240902T105105Z
LAST-MODIFIED:20240902T105910Z
UID:9797-1725472800-1725483600@portalverneda.es
SUMMARY:ROL: Grupo waterdeep
DESCRIPTION:Reserva de la sala de rol
URL:https://portalverneda.es/calendario/rol-grupo-waterdeep-2/
LOCATION:Sala de Rol\, Carrer de la Mare de Déu de Montserrat\, 44\, Sant Adrià del Besòs\, Barcelona\, 08930\, España
CATEGORIES:Privado
ATTACH;FMTTYPE=image/jpeg:https://portalverneda.es/wp-content/uploads/2024/06/Waterdeep-El-Golpe-de-los-Dragones-Jarlaxle.jpg
END:VEVENT
BEGIN:VEVENT
DTSTART;TZID=Europe/Madrid:20240905T210000
DTEND;TZID=Europe/Madrid:20240905T230000
DTSTAMP:20260422T235209
CREATED:20240902T085338Z
LAST-MODIFIED:20240902T085338Z
UID:9781-1725570000-1725577200@portalverneda.es
SUMMARY:CINE: Los Anillos de Poder
DESCRIPTION:Este jueves quedamos para ver los EP3 y 4 de el Señor de los Anillos: Los Anillos de Poder.
URL:https://portalverneda.es/calendario/cine-los-anillos-de-poder-2/
LOCATION:El Portal de la Verneda\, Carrer sant Miquel\, 10\, Sant Adrià del Besòs\, Barcelona\, 08930\, Spain
CATEGORIES:Público
ATTACH;FMTTYPE=image/jpeg:https://portalverneda.es/wp-content/uploads/2024/08/d7dbf184ff601ee1c1f2789c0150d306b22d8e686592b39ce23f06340be2e793.jpg
END:VEVENT
BEGIN:VEVENT
DTSTART;TZID=Europe/Madrid:20240912T210000
DTEND;TZID=Europe/Madrid:20240912T220000
DTSTAMP:20260422T235209
CREATED:20240902T085437Z
LAST-MODIFIED:20240902T085437Z
UID:9783-1726174800-1726178400@portalverneda.es
SUMMARY:CINE: Los Anillos de Poder
DESCRIPTION:Este jueves quedamos para ver el EP5 de el Señor de los Anillos: Los Anillos de Poder.
URL:https://portalverneda.es/calendario/cine-los-anillos-de-poder-3/
LOCATION:El Portal de la Verneda\, Carrer sant Miquel\, 10\, Sant Adrià del Besòs\, Barcelona\, 08930\, Spain
CATEGORIES:Público
ATTACH;FMTTYPE=image/jpeg:https://portalverneda.es/wp-content/uploads/2024/08/d7dbf184ff601ee1c1f2789c0150d306b22d8e686592b39ce23f06340be2e793.jpg
END:VEVENT
BEGIN:VEVENT
DTSTART;TZID=Europe/Madrid:20240914T190000
DTEND;TZID=Europe/Madrid:20240914T203000
DTSTAMP:20260422T235209
CREATED:20240902T105738Z
LAST-MODIFIED:20240902T110808Z
UID:9799-1726340400-1726345800@portalverneda.es
SUMMARY:CINE: The first Slam Dunk
DESCRIPTION:Proyectaremos la pelicula que da cierre a la mitica serie Slam Dunk
URL:https://portalverneda.es/calendario/cine-the-first-slam-dunk/
LOCATION:El Portal de la Verneda\, Carrer sant Miquel\, 10\, Sant Adrià del Besòs\, Barcelona\, 08930\, Spain
CATEGORIES:Público
ATTACH;FMTTYPE=image/webp:https://portalverneda.es/wp-content/uploads/2024/09/filters_quality95formatwebp.webp
END:VEVENT
BEGIN:VEVENT
DTSTART;TZID=Europe/Madrid:20240915T170000
DTEND;TZID=Europe/Madrid:20240915T213000
DTSTAMP:20260422T235209
CREATED:20240902T111316Z
LAST-MODIFIED:20240902T111316Z
UID:9802-1726419600-1726435800@portalverneda.es
SUMMARY:Cumpleaños Laura
DESCRIPTION:Laura celebra su cumpleaños en el Portal donde ha invitado a sus amigos a venir y jugar a juegos de mesa
URL:https://portalverneda.es/calendario/cumpleanos-laura/
LOCATION:El Portal de la Verneda\, Carrer sant Miquel\, 10\, Sant Adrià del Besòs\, Barcelona\, 08930\, Spain
CATEGORIES:Privado
ATTACH;FMTTYPE=image/webp:https://portalverneda.es/wp-content/uploads/2024/06/globos-de-colores-infinitas-posibilidades-y-alegria-en-eventos-972993.webp
END:VEVENT
BEGIN:VEVENT
DTSTART;TZID=Europe/Madrid:20240919T210000
DTEND;TZID=Europe/Madrid:20240919T220000
DTSTAMP:20260422T235209
CREATED:20240902T085643Z
LAST-MODIFIED:20240902T085643Z
UID:9785-1726779600-1726783200@portalverneda.es
SUMMARY:CINE: Los Anillos de Poder
DESCRIPTION:Este jueves quedamos para ver el EP6 de el Señor de los Anillos: Los Anillos de Poder.
URL:https://portalverneda.es/calendario/cine-los-anillos-de-poder-4/
LOCATION:El Portal de la Verneda\, Carrer sant Miquel\, 10\, Sant Adrià del Besòs\, Barcelona\, 08930\, Spain
CATEGORIES:Público
ATTACH;FMTTYPE=image/jpeg:https://portalverneda.es/wp-content/uploads/2024/08/d7dbf184ff601ee1c1f2789c0150d306b22d8e686592b39ce23f06340be2e793.jpg
END:VEVENT
BEGIN:VEVENT
DTSTART;TZID=Europe/Madrid:20240922T080000
DTEND;TZID=Europe/Madrid:20240922T170000
DTSTAMP:20260422T235209
CREATED:20240820T114201Z
LAST-MODIFIED:20240916T080912Z
UID:9740-1726992000-1727024400@portalverneda.es
SUMMARY:Gran Torneo Lorcana
DESCRIPTION:¡Buenos días Jugadores! \nOs queremos presentar el 🏆Gran Torneo de Lorcana🏆 en la asociación del Portal de la Verneda.\nSe trata de un torneo con un montón de premios exclusivos\, actividades para dinamizar los tiempos muertos y mucha ilusión. 🥳\nMás adelante os haremos llegar las normas y horarios del torneo\, pero ya os adelantamos que habrán cambios como que no se va a poder empatar.\nPara apuntaros podéis escribir a portalverneda@gmail.com o enviarme a mi un mensaje privado donde os haremos llegar la forma de pago y demás. 😁\nTenemos muchas ganas de que os guste la iniciativa y ¡esperamos veros allí el dia 22 de septiembre!
URL:https://portalverneda.es/calendario/gran-torneo-lorcana/
LOCATION:El Portal de la Verneda\, Carrer sant Miquel\, 10\, Sant Adrià del Besòs\, Barcelona\, 08930\, Spain
CATEGORIES:Público
ATTACH;FMTTYPE=image/jpeg:https://portalverneda.es/wp-content/uploads/2024/08/WhatsApp-Image-2024-08-16-at-21.57.07.jpeg
END:VEVENT
BEGIN:VEVENT
DTSTART;TZID=Europe/Madrid:20240926T210000
DTEND;TZID=Europe/Madrid:20240926T230000
DTSTAMP:20260422T235209
CREATED:20240902T085818Z
LAST-MODIFIED:20240902T085818Z
UID:9787-1727384400-1727391600@portalverneda.es
SUMMARY:CINE: Los Anillos de Poder
DESCRIPTION:Este jueves quedamos para ver el EP7 de el Señor de los Anillos: Los Anillos de Poder. \n 
URL:https://portalverneda.es/calendario/cine-los-anillos-de-poder-5/
LOCATION:El Portal de la Verneda\, Carrer sant Miquel\, 10\, Sant Adrià del Besòs\, Barcelona\, 08930\, Spain
CATEGORIES:Público
ATTACH;FMTTYPE=image/jpeg:https://portalverneda.es/wp-content/uploads/2024/08/d7dbf184ff601ee1c1f2789c0150d306b22d8e686592b39ce23f06340be2e793.jpg
END:VEVENT
BEGIN:VEVENT
DTSTART;TZID=Europe/Madrid:20241003T210000
DTEND;TZID=Europe/Madrid:20241003T220000
DTSTAMP:20260422T235209
CREATED:20240902T085907Z
LAST-MODIFIED:20240902T085907Z
UID:9789-1727989200-1727992800@portalverneda.es
SUMMARY:CINE: Los Anillos de Poder
DESCRIPTION:Este jueves quedamos para ver el EP8 de el Señor de los Anillos: Los Anillos de Poder.
URL:https://portalverneda.es/calendario/cine-los-anillos-de-poder-6/
LOCATION:El Portal de la Verneda\, Carrer sant Miquel\, 10\, Sant Adrià del Besòs\, Barcelona\, 08930\, Spain
CATEGORIES:Público
ATTACH;FMTTYPE=image/jpeg:https://portalverneda.es/wp-content/uploads/2024/08/d7dbf184ff601ee1c1f2789c0150d306b22d8e686592b39ce23f06340be2e793.jpg
END:VEVENT
BEGIN:VEVENT
DTSTART;TZID=Europe/Madrid:20241005T090000
DTEND;TZID=Europe/Madrid:20241006T143000
DTSTAMP:20260422T235209
CREATED:20240827T092317Z
LAST-MODIFIED:20240827T092317Z
UID:9761-1728118800-1728225000@portalverneda.es
SUMMARY:Gran Final Circuito de los 7 reinos
DESCRIPTION:
URL:https://portalverneda.es/calendario/gran-final-circuito-de-los-7-reinos/
LOCATION:El Portal de la Verneda\, Carrer sant Miquel\, 10\, Sant Adrià del Besòs\, Barcelona\, 08930\, Spain
CATEGORIES:Privado
ATTACH;FMTTYPE=image/jpeg:https://portalverneda.es/wp-content/uploads/2024/08/WhatsApp-Image-2024-07-03-at-12.06.10.jpeg
END:VEVENT
BEGIN:VEVENT
DTSTART;TZID=Europe/Madrid:20241008T210000
DTEND;TZID=Europe/Madrid:20241008T220000
DTSTAMP:20260422T235209
CREATED:20240828T202432Z
LAST-MODIFIED:20240828T202547Z
UID:9772-1728421200-1728424800@portalverneda.es
SUMMARY:CINE: Vox Machina
DESCRIPTION:Este martes quedamos para ver el EP1 de La leyenda de Vox Machina T3
URL:https://portalverneda.es/calendario/cine-vox-machina/
LOCATION:El Portal de la Verneda\, Carrer sant Miquel\, 10\, Sant Adrià del Besòs\, Barcelona\, 08930\, Spain
CATEGORIES:Público
ATTACH;FMTTYPE=image/jpeg:https://portalverneda.es/wp-content/uploads/2024/08/The-Legend-of-Vox-Machina-e1676227101521-1068x601-1.jpg
END:VEVENT
BEGIN:VEVENT
DTSTART;TZID=Europe/Madrid:20241015T180000
DTEND;TZID=Europe/Madrid:20241015T220000
DTSTAMP:20260422T235209
CREATED:20241013T110756Z
LAST-MODIFIED:20241013T111359Z
UID:9818-1729015200-1729029600@portalverneda.es
SUMMARY:Blood on the clocktower
DESCRIPTION:Partida del juego de roles ocultos para celebrar el cumpleaños de Oscar
URL:https://portalverneda.es/calendario/blood-on-the-clocktower/
LOCATION:El Portal de la Verneda\, Carrer sant Miquel\, 10\, Sant Adrià del Besòs\, Barcelona\, 08930\, Spain
CATEGORIES:Privado
ATTACH;FMTTYPE=image/jpeg:https://portalverneda.es/wp-content/uploads/2024/06/tumblr_5e8070dd39e9cc0bb0e31c7b8187c632_b191caeb_826.jpg
END:VEVENT
BEGIN:VEVENT
DTSTART;TZID=Europe/Madrid:20241019T223000
DTEND;TZID=Europe/Madrid:20241020T053000
DTSTAMP:20260422T235209
CREATED:20241013T110541Z
LAST-MODIFIED:20241013T110541Z
UID:9815-1729377000-1729402200@portalverneda.es
SUMMARY:ALL NIGHT Juegos de mesa
DESCRIPTION:Quedada nocturna para jugar a juegos de mesa toda la noche
URL:https://portalverneda.es/calendario/all-night-juegos-de-mesa/
LOCATION:El Portal de la Verneda\, Carrer sant Miquel\, 10\, Sant Adrià del Besòs\, Barcelona\, 08930\, Spain
CATEGORIES:Público
ATTACH;FMTTYPE=image/jpeg:https://portalverneda.es/wp-content/uploads/2024/10/maxresdefault.jpg
END:VEVENT
BEGIN:VEVENT
DTSTART;TZID=Europe/Madrid:20241020T120000
DTEND;TZID=Europe/Madrid:20241020T170000
DTSTAMP:20260422T235209
CREATED:20241013T111137Z
LAST-MODIFIED:20241013T111137Z
UID:9820-1729425600-1729443600@portalverneda.es
SUMMARY:GT de HEAT
DESCRIPTION:
URL:https://portalverneda.es/calendario/gt-de-heat/
LOCATION:El Portal de la Verneda\, Carrer sant Miquel\, 10\, Sant Adrià del Besòs\, Barcelona\, 08930\, Spain
CATEGORIES:La Tienda Scum
ATTACH;FMTTYPE=image/webp:https://portalverneda.es/wp-content/uploads/2024/10/pic6940449.webp
END:VEVENT
BEGIN:VEVENT
DTSTART;VALUE=DATE:20241027
DTEND;VALUE=DATE:20241029
DTSTAMP:20260422T235209
CREATED:20240902T104905Z
LAST-MODIFIED:20240902T104905Z
UID:9795-1730019600-1730105999@portalverneda.es
SUMMARY:Provisional: Jornada de ROL
DESCRIPTION:
URL:https://portalverneda.es/calendario/provisional-jornada-de-rol/
LOCATION:El Portal de la Verneda\, Carrer sant Miquel\, 10\, Sant Adrià del Besòs\, Barcelona\, 08930\, Spain
CATEGORIES:Público
ATTACH;FMTTYPE=image/jpeg:https://portalverneda.es/wp-content/uploads/2024/06/Waterdeep-El-Golpe-de-los-Dragones-Jarlaxle.jpg
END:VEVENT
BEGIN:VEVENT
DTSTART;TZID=Europe/Madrid:20241112T170000
DTEND;TZID=Europe/Madrid:20241112T210000
DTSTAMP:20260422T235209
CREATED:20241021T085031Z
LAST-MODIFIED:20241021T085031Z
UID:9823-1731430800-1731445200@portalverneda.es
SUMMARY:CINE: Arcane 2 Act I
DESCRIPTION:
URL:https://portalverneda.es/calendario/cine-arcane-2-act-i/
LOCATION:El Portal de la Verneda\, Carrer sant Miquel\, 10\, Sant Adrià del Besòs\, Barcelona\, 08930\, Spain
CATEGORIES:Público
ATTACH;FMTTYPE=image/jpeg:https://portalverneda.es/wp-content/uploads/2024/10/1109560-arcane-saison-2-la-guerre-entre-piltover-et-zaun-s-intensifie-sur-netflix-en-novembre-2024.jpg
END:VEVENT
BEGIN:VEVENT
DTSTART;TZID=Europe/Madrid:20241116T170000
DTEND;TZID=Europe/Madrid:20241116T210000
DTSTAMP:20260422T235209
CREATED:20241021T085310Z
LAST-MODIFIED:20241021T085530Z
UID:9826-1731776400-1731790800@portalverneda.es
SUMMARY:CINE: Arcane 2 Act II
DESCRIPTION:
URL:https://portalverneda.es/calendario/cine-arcane-2-act-ii/
LOCATION:El Portal de la Verneda\, Carrer sant Miquel\, 10\, Sant Adrià del Besòs\, Barcelona\, 08930\, Spain
CATEGORIES:Público
ATTACH;FMTTYPE=image/jpeg:https://portalverneda.es/wp-content/uploads/2024/10/1109560-arcane-saison-2-la-guerre-entre-piltover-et-zaun-s-intensifie-sur-netflix-en-novembre-2024.jpg
END:VEVENT
BEGIN:VEVENT
DTSTART;TZID=Europe/Madrid:20241123T170000
DTEND;TZID=Europe/Madrid:20241123T210000
DTSTAMP:20260422T235209
CREATED:20241021T085404Z
LAST-MODIFIED:20241021T085404Z
UID:9828-1732381200-1732395600@portalverneda.es
SUMMARY:CINE: Arcane 2 Act III
DESCRIPTION:
URL:https://portalverneda.es/calendario/cine-arcane-2-act-iii/
LOCATION:El Portal de la Verneda\, Carrer sant Miquel\, 10\, Sant Adrià del Besòs\, Barcelona\, 08930\, Spain
CATEGORIES:Público
ATTACH;FMTTYPE=image/jpeg:https://portalverneda.es/wp-content/uploads/2024/10/1109560-arcane-saison-2-la-guerre-entre-piltover-et-zaun-s-intensifie-sur-netflix-en-novembre-2024.jpg
END:VEVENT
BEGIN:VEVENT
DTSTART;TZID=Europe/Madrid:20241124T173000
DTEND;TZID=Europe/Madrid:20241124T210000
DTSTAMP:20260422T235209
CREATED:20241122T084248Z
LAST-MODIFIED:20241122T084248Z
UID:9839-1732469400-1732482000@portalverneda.es
SUMMARY:ROL
DESCRIPTION:Doble partida de rol en el Portal
URL:https://portalverneda.es/calendario/rol/
LOCATION:Sala de Rol\, Carrer de la Mare de Déu de Montserrat\, 44\, Sant Adrià del Besòs\, Barcelona\, 08930\, España
CATEGORIES:Privado
ATTACH;FMTTYPE=image/png:https://portalverneda.es/wp-content/uploads/2024/06/Waterdeep.png
END:VEVENT
END:VCALENDAR