BEGIN:VCALENDAR
VERSION:2.0
PRODID:-//El Portal de la Verneda - ECPv6.6.0.2//NONSGML v1.0//EN
CALSCALE:GREGORIAN
METHOD:PUBLISH
X-ORIGINAL-URL:https://portalverneda.es
X-WR-CALDESC:Eventos para El Portal de la Verneda
REFRESH-INTERVAL;VALUE=DURATION:PT1H
X-Robots-Tag:noindex
X-PUBLISHED-TTL:PT1H
BEGIN:VTIMEZONE
TZID:Europe/Madrid
BEGIN:DAYLIGHT
TZOFFSETFROM:+0100
TZOFFSETTO:+0200
TZNAME:CEST
DTSTART:20250330T010000
END:DAYLIGHT
BEGIN:STANDARD
TZOFFSETFROM:+0200
TZOFFSETTO:+0100
TZNAME:CET
DTSTART:20251026T010000
END:STANDARD
END:VTIMEZONE
BEGIN:VEVENT
DTSTART;TZID=Europe/Madrid:20250706T090000
DTEND;TZID=Europe/Madrid:20250706T170000
DTSTAMP:20260421T220610
CREATED:20250607T133048Z
LAST-MODIFIED:20250607T133048Z
UID:10257-1751792400-1751821200@portalverneda.es
SUMMARY:ll Torneo canción de hielo y fuego
DESCRIPTION:Torneo
URL:https://portalverneda.es/calendario/ll-torneo-cancion-de-hielo-y-fuego/
LOCATION:El Portal de la Verneda\, Carrer sant Miquel\, 10\, Sant Adrià del Besòs\, Barcelona\, 08930\, Spain
ATTACH;FMTTYPE=image/jpeg:https://portalverneda.es/wp-content/uploads/2025/05/1746720558636-_888de078-b873-4cc7-b9c7-71f5b887fb2b.jpg
END:VEVENT
BEGIN:VEVENT
DTSTART;TZID=Europe/Madrid:20250712T080000
DTEND;TZID=Europe/Madrid:20250712T170000
DTSTAMP:20260421T220610
CREATED:20250527T203541Z
LAST-MODIFIED:20250527T203541Z
UID:10241-1752307200-1752339600@portalverneda.es
SUMMARY:Torneo magic
DESCRIPTION:
URL:https://portalverneda.es/calendario/torneo-magic/
LOCATION:El Portal de la Verneda\, Carrer sant Miquel\, 10\, Sant Adrià del Besòs\, Barcelona\, 08930\, Spain
ATTACH;FMTTYPE=image/jpeg:https://portalverneda.es/wp-content/uploads/2025/05/Magic-The-Gathering-Logo-scaled.jpg
END:VEVENT
BEGIN:VEVENT
DTSTART;TZID=Europe/Madrid:20250719T080000
DTEND;TZID=Europe/Madrid:20250720T170000
DTSTAMP:20260421T220610
CREATED:20250419T210534Z
LAST-MODIFIED:20250503T123326Z
UID:9964-1752912000-1753030800@portalverneda.es
SUMMARY:Torneo de 40k
DESCRIPTION:Torneo de 40k
URL:https://portalverneda.es/calendario/torneo-de-40k/
LOCATION:El Portal de la Verneda\, Carrer sant Miquel\, 10\, Sant Adrià del Besòs\, Barcelona\, 08930\, Spain
CATEGORIES:Público
ATTACH;FMTTYPE=image/jpeg:https://portalverneda.es/wp-content/uploads/2025/04/images.jpg
ORGANIZER;CN="La Orden":MAILTO:lordofones@gmail.com
END:VEVENT
END:VCALENDAR